BEGIN:VCALENDAR
VERSION:2.0
PRODID:-//Hamburg Shooters e.V. - ECPv6.15.20//NONSGML v1.0//EN
CALSCALE:GREGORIAN
METHOD:PUBLISH
X-ORIGINAL-URL:https://hamburg-shooters.de
X-WR-CALDESC:Veranstaltungen für Hamburg Shooters e.V.
REFRESH-INTERVAL;VALUE=DURATION:PT1H
X-Robots-Tag:noindex
X-PUBLISHED-TTL:PT1H
BEGIN:VTIMEZONE
TZID:Europe/Berlin
BEGIN:DAYLIGHT
TZOFFSETFROM:+0100
TZOFFSETTO:+0200
TZNAME:CEST
DTSTART:20210328T010000
END:DAYLIGHT
BEGIN:STANDARD
TZOFFSETFROM:+0200
TZOFFSETTO:+0100
TZNAME:CET
DTSTART:20211031T010000
END:STANDARD
BEGIN:DAYLIGHT
TZOFFSETFROM:+0100
TZOFFSETTO:+0200
TZNAME:CEST
DTSTART:20220327T010000
END:DAYLIGHT
BEGIN:STANDARD
TZOFFSETFROM:+0200
TZOFFSETTO:+0100
TZNAME:CET
DTSTART:20221030T010000
END:STANDARD
BEGIN:DAYLIGHT
TZOFFSETFROM:+0100
TZOFFSETTO:+0200
TZNAME:CEST
DTSTART:20230326T010000
END:DAYLIGHT
BEGIN:STANDARD
TZOFFSETFROM:+0200
TZOFFSETTO:+0100
TZNAME:CET
DTSTART:20231029T010000
END:STANDARD
END:VTIMEZONE
BEGIN:VEVENT
DTSTART;TZID=Europe/Berlin:20220813T100000
DTEND;TZID=Europe/Berlin:20220813T130000
DTSTAMP:20260425T180503
CREATED:20211217T081136Z
LAST-MODIFIED:20220726T131802Z
UID:10000021-1660384800-1660395600@hamburg-shooters.de
SUMMARY:Kurzwaffe Mehrdistanz
DESCRIPTION:ACHTUNG: an diesem Wochenende bieten wir das Grundlagentraining auf Stand 1 an.\nBitte nur auf Stand 1 anmelden\, wenn Ihr an diesem speziellen Training teilnehmen wollt. Kein eigenständiges Training auf Stand 1 möglich! \nEs gelten die jeweils aktuellen Coronaregeln. Bitte nicht vergessen\, Euch in den Vereinsschiessnachweis einzutragen.
URL:https://hamburg-shooters.de/event/kurzwaffentraining-2022-08-13/
LOCATION:Shooting Point Kaltenkirchen\, Carl-Zeiss-Straße 38-40\, Kaltenkirchen\, Schleswig-Holstein\, 24568\, Deutschland
CATEGORIES:Kurzwaffe/Flinte
ATTACH;FMTTYPE=image/jpeg:https://hamburg-shooters.de/wp-content/uploads/2020/07/cartridges-2166491-MasterTux-scaled.jpg
GEO:53.82227;9.98414
X-APPLE-STRUCTURED-LOCATION;VALUE=URI;X-ADDRESS=Shooting Point Kaltenkirchen Carl-Zeiss-Straße 38-40 Kaltenkirchen Schleswig-Holstein 24568 Deutschland;X-APPLE-RADIUS=500;X-TITLE=Carl-Zeiss-Straße 38-40:geo:9.98414,53.82227
END:VEVENT
END:VCALENDAR