BEGIN:VCALENDAR
VERSION:2.0
PRODID:-//Hamburg Shooters e.V. - ECPv6.15.20//NONSGML v1.0//EN
CALSCALE:GREGORIAN
METHOD:PUBLISH
X-ORIGINAL-URL:https://hamburg-shooters.de
X-WR-CALDESC:Veranstaltungen für Hamburg Shooters e.V.
REFRESH-INTERVAL;VALUE=DURATION:PT1H
X-Robots-Tag:noindex
X-PUBLISHED-TTL:PT1H
BEGIN:VTIMEZONE
TZID:Europe/Berlin
BEGIN:DAYLIGHT
TZOFFSETFROM:+0100
TZOFFSETTO:+0200
TZNAME:CEST
DTSTART:20220327T010000
END:DAYLIGHT
BEGIN:STANDARD
TZOFFSETFROM:+0200
TZOFFSETTO:+0100
TZNAME:CET
DTSTART:20221030T010000
END:STANDARD
BEGIN:DAYLIGHT
TZOFFSETFROM:+0100
TZOFFSETTO:+0200
TZNAME:CEST
DTSTART:20230326T010000
END:DAYLIGHT
BEGIN:STANDARD
TZOFFSETFROM:+0200
TZOFFSETTO:+0100
TZNAME:CET
DTSTART:20231029T010000
END:STANDARD
BEGIN:DAYLIGHT
TZOFFSETFROM:+0100
TZOFFSETTO:+0200
TZNAME:CEST
DTSTART:20240331T010000
END:DAYLIGHT
BEGIN:STANDARD
TZOFFSETFROM:+0200
TZOFFSETTO:+0100
TZNAME:CET
DTSTART:20241027T010000
END:STANDARD
END:VTIMEZONE
BEGIN:VEVENT
DTSTART;TZID=Europe/Berlin:20231007T100000
DTEND;TZID=Europe/Berlin:20231007T120000
DTSTAMP:20260422T000600
CREATED:20230303T092926Z
LAST-MODIFIED:20230303T092926Z
UID:10000102-1696672800-1696680000@hamburg-shooters.de
SUMMARY:Trap/Parcours
DESCRIPTION:Stand D – Bitte die aktuellen Coronaregeln auf der Website des Schießstandes beachten.
URL:https://hamburg-shooters.de/event/trap-parcours-15/
LOCATION:Schießstand Garlstorf\, Zur Osterheide 100\, Garlstorf\, 21376\, Deutschland
CATEGORIES:Wurfscheibe
ATTACH;FMTTYPE=image/jpeg:https://hamburg-shooters.de/wp-content/uploads/2020/07/shooter-695324-skeeze.jpg
GEO:53.2402289;10.1076195
X-APPLE-STRUCTURED-LOCATION;VALUE=URI;X-ADDRESS=Schießstand Garlstorf Zur Osterheide 100 Garlstorf 21376 Deutschland;X-APPLE-RADIUS=500;X-TITLE=Zur Osterheide 100:geo:10.1076195,53.2402289
END:VEVENT
BEGIN:VEVENT
DTSTART;TZID=Europe/Berlin:20231007T160000
DTEND;TZID=Europe/Berlin:20231007T180000
DTSTAMP:20260422T000600
CREATED:20230306T130944Z
LAST-MODIFIED:20230306T131328Z
UID:10000114-1696694400-1696701600@hamburg-shooters.de
SUMMARY:Long Range
DESCRIPTION:Stand 1 (Mehrdistanz) \n5 Bahnen sind nutzbar. Bei Buchung von sechs Teilnehmern\, führt ein berechtigter Teilnehmer Aufsicht. \n 
URL:https://hamburg-shooters.de/event/long-range-6/
LOCATION:Schiesssportanlage Hohenhorn\, Zum Schießstand 1\, Hohenhorn\, Schleswig-Holstein\, 21526\, Deutschland
CATEGORIES:Long Range
ATTACH;FMTTYPE=image/jpeg:https://hamburg-shooters.de/wp-content/uploads/2020/07/long-range-shooting-3777583-Shepard-Humphries-scaled.jpg
GEO:53.4752379;10.3792074
X-APPLE-STRUCTURED-LOCATION;VALUE=URI;X-ADDRESS=Schiesssportanlage Hohenhorn Zum Schießstand 1 Hohenhorn Schleswig-Holstein 21526 Deutschland;X-APPLE-RADIUS=500;X-TITLE=Zum Schießstand 1:geo:10.3792074,53.4752379
END:VEVENT
END:VCALENDAR