BEGIN:VCALENDAR
VERSION:2.0
PRODID:-//Hamburg Shooters e.V. - ECPv6.15.20//NONSGML v1.0//EN
CALSCALE:GREGORIAN
METHOD:PUBLISH
X-WR-CALNAME:Hamburg Shooters e.V.
X-ORIGINAL-URL:https://hamburg-shooters.de
X-WR-CALDESC:Veranstaltungen für Hamburg Shooters e.V.
REFRESH-INTERVAL;VALUE=DURATION:PT1H
X-Robots-Tag:noindex
X-PUBLISHED-TTL:PT1H
BEGIN:VTIMEZONE
TZID:Europe/Berlin
BEGIN:DAYLIGHT
TZOFFSETFROM:+0100
TZOFFSETTO:+0200
TZNAME:CEST
DTSTART:20230326T010000
END:DAYLIGHT
BEGIN:STANDARD
TZOFFSETFROM:+0200
TZOFFSETTO:+0100
TZNAME:CET
DTSTART:20231029T010000
END:STANDARD
BEGIN:DAYLIGHT
TZOFFSETFROM:+0100
TZOFFSETTO:+0200
TZNAME:CEST
DTSTART:20240331T010000
END:DAYLIGHT
BEGIN:STANDARD
TZOFFSETFROM:+0200
TZOFFSETTO:+0100
TZNAME:CET
DTSTART:20241027T010000
END:STANDARD
BEGIN:DAYLIGHT
TZOFFSETFROM:+0100
TZOFFSETTO:+0200
TZNAME:CEST
DTSTART:20250330T010000
END:DAYLIGHT
BEGIN:STANDARD
TZOFFSETFROM:+0200
TZOFFSETTO:+0100
TZNAME:CET
DTSTART:20251026T010000
END:STANDARD
END:VTIMEZONE
BEGIN:VEVENT
DTSTART;TZID=Europe/Berlin:20241130T100000
DTEND;TZID=Europe/Berlin:20241130T120000
DTSTAMP:20260422T130422
CREATED:20241013T133603Z
LAST-MODIFIED:20241013T133603Z
UID:10000256-1732960800-1732968000@hamburg-shooters.de
SUMMARY:Skeet
DESCRIPTION:Stand A\, Bitte variierende Anfangszeiten beachten!
URL:https://hamburg-shooters.de/event/skeet-11/
LOCATION:Schießstand Garlstorf\, Zur Osterheide 100\, Garlstorf\, 21376\, Deutschland
CATEGORIES:Wurfscheibe
ATTACH;FMTTYPE=image/jpeg:https://hamburg-shooters.de/wp-content/uploads/2020/07/guns-467710-Norman-Bosworth-scaled.jpg
GEO:53.2402289;10.1076195
X-APPLE-STRUCTURED-LOCATION;VALUE=URI;X-ADDRESS=Schießstand Garlstorf Zur Osterheide 100 Garlstorf 21376 Deutschland;X-APPLE-RADIUS=500;X-TITLE=Zur Osterheide 100:geo:10.1076195,53.2402289
END:VEVENT
END:VCALENDAR