BEGIN:VCALENDAR
VERSION:2.0
PRODID:-//Hamburg Shooters e.V. - ECPv6.15.20//NONSGML v1.0//EN
CALSCALE:GREGORIAN
METHOD:PUBLISH
X-WR-CALNAME:Hamburg Shooters e.V.
X-ORIGINAL-URL:https://hamburg-shooters.de
X-WR-CALDESC:Veranstaltungen für Hamburg Shooters e.V.
REFRESH-INTERVAL;VALUE=DURATION:PT1H
X-Robots-Tag:noindex
X-PUBLISHED-TTL:PT1H
BEGIN:VTIMEZONE
TZID:Europe/Berlin
BEGIN:DAYLIGHT
TZOFFSETFROM:+0100
TZOFFSETTO:+0200
TZNAME:CEST
DTSTART:20210328T010000
END:DAYLIGHT
BEGIN:STANDARD
TZOFFSETFROM:+0200
TZOFFSETTO:+0100
TZNAME:CET
DTSTART:20211031T010000
END:STANDARD
BEGIN:DAYLIGHT
TZOFFSETFROM:+0100
TZOFFSETTO:+0200
TZNAME:CEST
DTSTART:20220327T010000
END:DAYLIGHT
BEGIN:STANDARD
TZOFFSETFROM:+0200
TZOFFSETTO:+0100
TZNAME:CET
DTSTART:20221030T010000
END:STANDARD
BEGIN:DAYLIGHT
TZOFFSETFROM:+0100
TZOFFSETTO:+0200
TZNAME:CEST
DTSTART:20230326T010000
END:DAYLIGHT
BEGIN:STANDARD
TZOFFSETFROM:+0200
TZOFFSETTO:+0100
TZNAME:CET
DTSTART:20231029T010000
END:STANDARD
END:VTIMEZONE
BEGIN:VEVENT
DTSTART;TZID=Europe/Berlin:20220903T100000
DTEND;TZID=Europe/Berlin:20220903T120000
DTSTAMP:20260424T043129
CREATED:20220130T152643Z
LAST-MODIFIED:20220815T124519Z
UID:10000035-1662199200-1662206400@hamburg-shooters.de
SUMMARY:Trap/Parcours
DESCRIPTION:Stand D – Bitte die aktuellen Coronaregeln auf der Website des Schießstandes beachten.
URL:https://hamburg-shooters.de/event/trap-parcours-8/
LOCATION:Schießstand Garlstorf\, Zur Osterheide 100\, Garlstorf\, 21376\, Deutschland
CATEGORIES:Wurfscheibe
ATTACH;FMTTYPE=image/jpeg:https://hamburg-shooters.de/wp-content/uploads/2020/07/shooter-695324-skeeze.jpg
GEO:53.2402289;10.1076195
X-APPLE-STRUCTURED-LOCATION;VALUE=URI;X-ADDRESS=Schießstand Garlstorf Zur Osterheide 100 Garlstorf 21376 Deutschland;X-APPLE-RADIUS=500;X-TITLE=Zur Osterheide 100:geo:10.1076195,53.2402289
END:VEVENT
BEGIN:VEVENT
DTSTART;TZID=Europe/Berlin:20220910T100000
DTEND;TZID=Europe/Berlin:20220910T130000
DTSTAMP:20260424T043129
CREATED:20211217T081136Z
LAST-MODIFIED:20220815T124045Z
UID:10000022-1662804000-1662814800@hamburg-shooters.de
SUMMARY:Kurzwaffe Mehrdistanz
DESCRIPTION:Bitte die aktuellen Coronaregeln für S-H/LK Segeberg beachten. Bitte nicht vergessen\, Euch in den Vereinsschiessnachweis einzutragen.
URL:https://hamburg-shooters.de/event/kurzwaffentraining-2022-09-10/
LOCATION:Shooting Point Kaltenkirchen\, Carl-Zeiss-Straße 38-40\, Kaltenkirchen\, Schleswig-Holstein\, 24568\, Deutschland
CATEGORIES:IPSC,Kurzwaffe/Flinte
ATTACH;FMTTYPE=image/jpeg:https://hamburg-shooters.de/wp-content/uploads/2020/07/cartridges-2166491-MasterTux-scaled.jpg
GEO:53.82227;9.98414
X-APPLE-STRUCTURED-LOCATION;VALUE=URI;X-ADDRESS=Shooting Point Kaltenkirchen Carl-Zeiss-Straße 38-40 Kaltenkirchen Schleswig-Holstein 24568 Deutschland;X-APPLE-RADIUS=500;X-TITLE=Carl-Zeiss-Straße 38-40:geo:9.98414,53.82227
END:VEVENT
BEGIN:VEVENT
DTSTART;TZID=Europe/Berlin:20220924T160000
DTEND;TZID=Europe/Berlin:20220924T180000
DTSTAMP:20260424T043129
CREATED:20220224T081903Z
LAST-MODIFIED:20220913T065046Z
UID:10000042-1664035200-1664042400@hamburg-shooters.de
SUMMARY:Long Range
DESCRIPTION:Bitte beachtet auch hier die aktuellen Coronaregeln in SH. Wir haben wie im letzten Jahr die Anzahl der Teilnehmer zunächst auf 5 begrenzt.
URL:https://hamburg-shooters.de/event/long-range-4/
LOCATION:Schiesssportanlage Hohenhorn\, Zum Schießstand 1\, Hohenhorn\, Schleswig-Holstein\, 21526\, Deutschland
CATEGORIES:Long Range
ATTACH;FMTTYPE=image/jpeg:https://hamburg-shooters.de/wp-content/uploads/2020/07/long-range-shooting-3777583-Shepard-Humphries-scaled.jpg
GEO:53.4752379;10.3792074
X-APPLE-STRUCTURED-LOCATION;VALUE=URI;X-ADDRESS=Schiesssportanlage Hohenhorn Zum Schießstand 1 Hohenhorn Schleswig-Holstein 21526 Deutschland;X-APPLE-RADIUS=500;X-TITLE=Zum Schießstand 1:geo:10.3792074,53.4752379
END:VEVENT
END:VCALENDAR