BEGIN:VCALENDAR
VERSION:2.0
PRODID:-//Hamburg Shooters e.V. - ECPv6.15.20//NONSGML v1.0//EN
CALSCALE:GREGORIAN
METHOD:PUBLISH
X-ORIGINAL-URL:https://hamburg-shooters.de
X-WR-CALDESC:Veranstaltungen für Hamburg Shooters e.V.
REFRESH-INTERVAL;VALUE=DURATION:PT1H
X-Robots-Tag:noindex
X-PUBLISHED-TTL:PT1H
BEGIN:VTIMEZONE
TZID:Europe/Berlin
BEGIN:DAYLIGHT
TZOFFSETFROM:+0100
TZOFFSETTO:+0200
TZNAME:CEST
DTSTART:20220327T010000
END:DAYLIGHT
BEGIN:STANDARD
TZOFFSETFROM:+0200
TZOFFSETTO:+0100
TZNAME:CET
DTSTART:20221030T010000
END:STANDARD
BEGIN:DAYLIGHT
TZOFFSETFROM:+0100
TZOFFSETTO:+0200
TZNAME:CEST
DTSTART:20230326T010000
END:DAYLIGHT
BEGIN:STANDARD
TZOFFSETFROM:+0200
TZOFFSETTO:+0100
TZNAME:CET
DTSTART:20231029T010000
END:STANDARD
BEGIN:DAYLIGHT
TZOFFSETFROM:+0100
TZOFFSETTO:+0200
TZNAME:CEST
DTSTART:20240331T010000
END:DAYLIGHT
BEGIN:STANDARD
TZOFFSETFROM:+0200
TZOFFSETTO:+0100
TZNAME:CET
DTSTART:20241027T010000
END:STANDARD
END:VTIMEZONE
BEGIN:VEVENT
DTSTART;TZID=Europe/Berlin:20230805T100000
DTEND;TZID=Europe/Berlin:20230805T120000
DTSTAMP:20260423T121659
CREATED:20230303T092520Z
LAST-MODIFIED:20230717T094137Z
UID:10000098-1691229600-1691236800@hamburg-shooters.de
SUMMARY:Parcours
DESCRIPTION:Stand E \n 
URL:https://hamburg-shooters.de/event/parcours-11/
LOCATION:Schießstand Garlstorf\, Zur Osterheide 100\, Garlstorf\, 21376\, Deutschland
CATEGORIES:Wurfscheibe
ATTACH;FMTTYPE=image/jpeg:https://hamburg-shooters.de/wp-content/uploads/2020/07/shotgun-1181648-Sascha-Luehr-scaled.jpg
GEO:53.2402289;10.1076195
X-APPLE-STRUCTURED-LOCATION;VALUE=URI;X-ADDRESS=Schießstand Garlstorf Zur Osterheide 100 Garlstorf 21376 Deutschland;X-APPLE-RADIUS=500;X-TITLE=Zur Osterheide 100:geo:10.1076195,53.2402289
END:VEVENT
BEGIN:VEVENT
DTSTART;TZID=Europe/Berlin:20230807T190000
DTEND;TZID=Europe/Berlin:20230807T210000
DTSTAMP:20260423T121659
CREATED:20230703T161219Z
LAST-MODIFIED:20230807T112901Z
UID:10000086-1691434800-1691442000@hamburg-shooters.de
SUMMARY:GK Kurzwaffe - Sasel
DESCRIPTION:Bitte beachtet: Diese Trainingsmöglichkeit richtet sich exklusiv an erfahrene\, aktive Standaufsichten der Hamburg Shooters\, die sichere 25m-Schützen sind. \nBitte eigene Zielscheiben zum Training mitbringen.
URL:https://hamburg-shooters.de/event/gk-kurzwaffe-9/
LOCATION:HSG Sasel\, Meiendorfer Mühlenweg 35\, Hamburg\, 22393\, Deutschland
CATEGORIES:Kurzwaffe
ATTACH;FMTTYPE=image/png:https://hamburg-shooters.de/wp-content/uploads/2020/09/gun-2087470-von-dirtdiver-auf-Pixabay-e1615728171614.png
GEO:53.6423929;10.1295183
X-APPLE-STRUCTURED-LOCATION;VALUE=URI;X-ADDRESS=HSG Sasel Meiendorfer Mühlenweg 35 Hamburg 22393 Deutschland;X-APPLE-RADIUS=500;X-TITLE=Meiendorfer Mühlenweg 35:geo:10.1295183,53.6423929
END:VEVENT
BEGIN:VEVENT
DTSTART;TZID=Europe/Berlin:20230812T090000
DTEND;TZID=Europe/Berlin:20230812T130000
DTSTAMP:20260423T121659
CREATED:20230703T161647Z
LAST-MODIFIED:20230721T105310Z
UID:10000076-1691830800-1691845200@hamburg-shooters.de
SUMMARY:Kurzwaffe/Mehrdistanz
DESCRIPTION:Bitte nicht vergessen\, Euch in den Vereinsschiessnachweis einzutragen.
URL:https://hamburg-shooters.de/event/kurzwaffe-mehrdistanz-12/
LOCATION:Shooting Point Kaltenkirchen\, Carl-Zeiss-Straße 38-40\, Kaltenkirchen\, Schleswig-Holstein\, 24568\, Deutschland
CATEGORIES:Kurzwaffe/Flinte
ATTACH;FMTTYPE=image/jpeg:https://hamburg-shooters.de/wp-content/uploads/2020/07/cartridges-2166491-MasterTux-scaled.jpg
GEO:53.82227;9.98414
X-APPLE-STRUCTURED-LOCATION;VALUE=URI;X-ADDRESS=Shooting Point Kaltenkirchen Carl-Zeiss-Straße 38-40 Kaltenkirchen Schleswig-Holstein 24568 Deutschland;X-APPLE-RADIUS=500;X-TITLE=Carl-Zeiss-Straße 38-40:geo:9.98414,53.82227
END:VEVENT
BEGIN:VEVENT
DTSTART;TZID=Europe/Berlin:20230812T100000
DTEND;TZID=Europe/Berlin:20230812T120000
DTSTAMP:20260423T121659
CREATED:20230306T130242Z
LAST-MODIFIED:20230306T130242Z
UID:10000113-1691834400-1691841600@hamburg-shooters.de
SUMMARY:Long Range
DESCRIPTION:Training auf Stand 2. Ausschließlich 300 m. Keine anderen Entfernungen! \n5 Bahnen. Bei Buchung von sechs Teilnehmern\, führt ein berechtigter Teilnehmer Aufsicht.
URL:https://hamburg-shooters.de/event/long-range-5/
LOCATION:Schiesssportanlage Hohenhorn\, Zum Schießstand 1\, Hohenhorn\, Schleswig-Holstein\, 21526\, Deutschland
CATEGORIES:Long Range
ATTACH;FMTTYPE=image/jpeg:https://hamburg-shooters.de/wp-content/uploads/2020/07/long-range-shooting-3777583-Shepard-Humphries-scaled.jpg
GEO:53.4752379;10.3792074
X-APPLE-STRUCTURED-LOCATION;VALUE=URI;X-ADDRESS=Schiesssportanlage Hohenhorn Zum Schießstand 1 Hohenhorn Schleswig-Holstein 21526 Deutschland;X-APPLE-RADIUS=500;X-TITLE=Zum Schießstand 1:geo:10.3792074,53.4752379
END:VEVENT
END:VCALENDAR