BEGIN:VCALENDAR
VERSION:2.0
PRODID:-//Hamburg Shooters e.V. - ECPv6.15.20//NONSGML v1.0//EN
CALSCALE:GREGORIAN
METHOD:PUBLISH
X-ORIGINAL-URL:https://hamburg-shooters.de
X-WR-CALDESC:Veranstaltungen für Hamburg Shooters e.V.
REFRESH-INTERVAL;VALUE=DURATION:PT1H
X-Robots-Tag:noindex
X-PUBLISHED-TTL:PT1H
BEGIN:VTIMEZONE
TZID:Europe/Berlin
BEGIN:DAYLIGHT
TZOFFSETFROM:+0100
TZOFFSETTO:+0200
TZNAME:CEST
DTSTART:20220327T010000
END:DAYLIGHT
BEGIN:STANDARD
TZOFFSETFROM:+0200
TZOFFSETTO:+0100
TZNAME:CET
DTSTART:20221030T010000
END:STANDARD
BEGIN:DAYLIGHT
TZOFFSETFROM:+0100
TZOFFSETTO:+0200
TZNAME:CEST
DTSTART:20230326T010000
END:DAYLIGHT
BEGIN:STANDARD
TZOFFSETFROM:+0200
TZOFFSETTO:+0100
TZNAME:CET
DTSTART:20231029T010000
END:STANDARD
BEGIN:DAYLIGHT
TZOFFSETFROM:+0100
TZOFFSETTO:+0200
TZNAME:CEST
DTSTART:20240331T010000
END:DAYLIGHT
BEGIN:STANDARD
TZOFFSETFROM:+0200
TZOFFSETTO:+0100
TZNAME:CET
DTSTART:20241027T010000
END:STANDARD
END:VTIMEZONE
BEGIN:VEVENT
DTSTART;TZID=Europe/Berlin:20231204T190000
DTEND;TZID=Europe/Berlin:20231204T210000
DTSTAMP:20260421T193116
CREATED:20231110T224348Z
LAST-MODIFIED:20231110T224348Z
UID:10000126-1701716400-1701723600@hamburg-shooters.de
SUMMARY:GK Kurzwaffe
DESCRIPTION:Bitte beachtet: Diese Trainingsmöglichkeit richtet sich exklusiv an erfahrene\, aktive Standaufsichten der Hamburg Shooters\, die sichere 25m-Schützen sind. \nBitte eigene Zielscheiben zum Training mitbringen.
URL:https://hamburg-shooters.de/event/gk-kurzwaffe-4/
LOCATION:HSG Sasel\, Meiendorfer Mühlenweg 35\, Hamburg\, 22393\, Deutschland
CATEGORIES:Kurzwaffe
ATTACH;FMTTYPE=image/png:https://hamburg-shooters.de/wp-content/uploads/2020/09/gun-2087470-von-dirtdiver-auf-Pixabay-e1615728171614.png
GEO:53.6423929;10.1295183
X-APPLE-STRUCTURED-LOCATION;VALUE=URI;X-ADDRESS=HSG Sasel Meiendorfer Mühlenweg 35 Hamburg 22393 Deutschland;X-APPLE-RADIUS=500;X-TITLE=Meiendorfer Mühlenweg 35:geo:10.1295183,53.6423929
END:VEVENT
BEGIN:VEVENT
DTSTART;TZID=Europe/Berlin:20231209T090000
DTEND;TZID=Europe/Berlin:20231209T130000
DTSTAMP:20260421T193116
CREATED:20231110T225319Z
LAST-MODIFIED:20231110T225909Z
UID:10000127-1702112400-1702126800@hamburg-shooters.de
SUMMARY:Kurzwaffe / Mehrdistanz
DESCRIPTION:Bitte tragt Euch zunächst in die Aufsichtsslots ein.\nEs werden alle Aufsichtsslots und alle weiteren Slots zunächst freigeschaltet. Sollten bis 2 Tage vor dem Termin noch Aufsichtsslots frei sein\, werden die betreffenden Slots vollständig gesperrt\, da wir ohne Aufsichten kein Training durchführen können.
URL:https://hamburg-shooters.de/event/kurzwaffe-mehrdistanz-15/
LOCATION:Shooting Point Kaltenkirchen\, Carl-Zeiss-Straße 38-40\, Kaltenkirchen\, Schleswig-Holstein\, 24568\, Deutschland
CATEGORIES:Kurzwaffe/Flinte
ATTACH;FMTTYPE=image/jpeg:https://hamburg-shooters.de/wp-content/uploads/2020/07/cartridges-2166491-MasterTux-scaled.jpg
GEO:53.82227;9.98414
X-APPLE-STRUCTURED-LOCATION;VALUE=URI;X-ADDRESS=Shooting Point Kaltenkirchen Carl-Zeiss-Straße 38-40 Kaltenkirchen Schleswig-Holstein 24568 Deutschland;X-APPLE-RADIUS=500;X-TITLE=Carl-Zeiss-Straße 38-40:geo:9.98414,53.82227
END:VEVENT
BEGIN:VEVENT
DTSTART;TZID=Europe/Berlin:20231209T100000
DTEND;TZID=Europe/Berlin:20231209T120000
DTSTAMP:20260421T193116
CREATED:20230303T093040Z
LAST-MODIFIED:20231110T224514Z
UID:10000106-1702116000-1702123200@hamburg-shooters.de
SUMMARY:Trap/Parcours
DESCRIPTION:Stand D
URL:https://hamburg-shooters.de/event/trap-parcours-19/
LOCATION:Schießstand Garlstorf\, Zur Osterheide 100\, Garlstorf\, 21376\, Deutschland
CATEGORIES:Wurfscheibe
ATTACH;FMTTYPE=image/jpeg:https://hamburg-shooters.de/wp-content/uploads/2020/07/shooter-695324-skeeze.jpg
GEO:53.2402289;10.1076195
X-APPLE-STRUCTURED-LOCATION;VALUE=URI;X-ADDRESS=Schießstand Garlstorf Zur Osterheide 100 Garlstorf 21376 Deutschland;X-APPLE-RADIUS=500;X-TITLE=Zur Osterheide 100:geo:10.1076195,53.2402289
END:VEVENT
BEGIN:VEVENT
DTSTART;TZID=Europe/Berlin:20231220T190000
DTEND;TZID=Europe/Berlin:20231220T210000
DTSTAMP:20260421T193116
CREATED:20231212T164419Z
LAST-MODIFIED:20231212T164419Z
UID:10000129-1703098800-1703106000@hamburg-shooters.de
SUMMARY:GK Kurzwaffe
DESCRIPTION:Bitte beachtet: Diese Trainingsmöglichkeit richtet sich exklusiv an erfahrene\, aktive Standaufsichten der Hamburg Shooters\, die sichere 25m-Schützen sind. \nBitte eigene Zielscheiben zum Training mitbringen.
URL:https://hamburg-shooters.de/event/gk-kurzwaffe-13/
LOCATION:HSG Sasel\, Meiendorfer Mühlenweg 35\, Hamburg\, 22393\, Deutschland
CATEGORIES:Kurzwaffe
ATTACH;FMTTYPE=image/png:https://hamburg-shooters.de/wp-content/uploads/2020/09/gun-2087470-von-dirtdiver-auf-Pixabay-e1615728171614.png
GEO:53.6423929;10.1295183
X-APPLE-STRUCTURED-LOCATION;VALUE=URI;X-ADDRESS=HSG Sasel Meiendorfer Mühlenweg 35 Hamburg 22393 Deutschland;X-APPLE-RADIUS=500;X-TITLE=Meiendorfer Mühlenweg 35:geo:10.1295183,53.6423929
END:VEVENT
BEGIN:VEVENT
DTSTART;TZID=Europe/Berlin:20231230T100000
DTEND;TZID=Europe/Berlin:20231230T120000
DTSTAMP:20260421T193116
CREATED:20231212T164137Z
LAST-MODIFIED:20231214T175201Z
UID:10000128-1703930400-1703937600@hamburg-shooters.de
SUMMARY:Trap/Parcours
DESCRIPTION:Stand D
URL:https://hamburg-shooters.de/event/trap-parcours-20/
LOCATION:Schießstand Garlstorf\, Zur Osterheide 100\, Garlstorf\, 21376\, Deutschland
CATEGORIES:Wurfscheibe
ATTACH;FMTTYPE=image/jpeg:https://hamburg-shooters.de/wp-content/uploads/2020/07/shooter-695324-skeeze.jpg
GEO:53.2402289;10.1076195
X-APPLE-STRUCTURED-LOCATION;VALUE=URI;X-ADDRESS=Schießstand Garlstorf Zur Osterheide 100 Garlstorf 21376 Deutschland;X-APPLE-RADIUS=500;X-TITLE=Zur Osterheide 100:geo:10.1076195,53.2402289
END:VEVENT
END:VCALENDAR