BEGIN:VCALENDAR
VERSION:2.0
PRODID:-//Hamburg Shooters e.V. - ECPv6.15.20//NONSGML v1.0//EN
CALSCALE:GREGORIAN
METHOD:PUBLISH
X-ORIGINAL-URL:https://hamburg-shooters.de
X-WR-CALDESC:Veranstaltungen für Hamburg Shooters e.V.
REFRESH-INTERVAL;VALUE=DURATION:PT1H
X-Robots-Tag:noindex
X-PUBLISHED-TTL:PT1H
BEGIN:VTIMEZONE
TZID:Europe/Berlin
BEGIN:DAYLIGHT
TZOFFSETFROM:+0100
TZOFFSETTO:+0200
TZNAME:CEST
DTSTART:20230326T010000
END:DAYLIGHT
BEGIN:STANDARD
TZOFFSETFROM:+0200
TZOFFSETTO:+0100
TZNAME:CET
DTSTART:20231029T010000
END:STANDARD
BEGIN:DAYLIGHT
TZOFFSETFROM:+0100
TZOFFSETTO:+0200
TZNAME:CEST
DTSTART:20240331T010000
END:DAYLIGHT
BEGIN:STANDARD
TZOFFSETFROM:+0200
TZOFFSETTO:+0100
TZNAME:CET
DTSTART:20241027T010000
END:STANDARD
BEGIN:DAYLIGHT
TZOFFSETFROM:+0100
TZOFFSETTO:+0200
TZNAME:CEST
DTSTART:20250330T010000
END:DAYLIGHT
BEGIN:STANDARD
TZOFFSETFROM:+0200
TZOFFSETTO:+0100
TZNAME:CET
DTSTART:20251026T010000
END:STANDARD
END:VTIMEZONE
BEGIN:VEVENT
DTSTART;TZID=Europe/Berlin:20240401T190000
DTEND;TZID=Europe/Berlin:20240401T210000
DTSTAMP:20260423T000032
CREATED:20240306T204344Z
LAST-MODIFIED:20240306T204510Z
UID:10000147-1711998000-1712005200@hamburg-shooters.de
SUMMARY:GK Kurzwaffe
DESCRIPTION:Bitte beachtet: Diese Trainingsmöglichkeit richtet sich exklusiv an erfahrene\, aktive Standaufsichten der Hamburg Shooters\, die sichere 25m-Schützen sind. \nBitte eigene Zielscheiben zum Training mitbringen.
URL:https://hamburg-shooters.de/event/gk-kurzwaffe-22/
LOCATION:HSG Sasel\, Meiendorfer Mühlenweg 35\, Hamburg\, 22393\, Deutschland
CATEGORIES:Kurzwaffe
ATTACH;FMTTYPE=image/png:https://hamburg-shooters.de/wp-content/uploads/2020/09/gun-2087470-von-dirtdiver-auf-Pixabay-e1615728171614.png
GEO:53.6423929;10.1295183
X-APPLE-STRUCTURED-LOCATION;VALUE=URI;X-ADDRESS=HSG Sasel Meiendorfer Mühlenweg 35 Hamburg 22393 Deutschland;X-APPLE-RADIUS=500;X-TITLE=Meiendorfer Mühlenweg 35:geo:10.1295183,53.6423929
END:VEVENT
BEGIN:VEVENT
DTSTART;TZID=Europe/Berlin:20240413T090000
DTEND;TZID=Europe/Berlin:20240413T130000
DTSTAMP:20260423T000032
CREATED:20240306T203352Z
LAST-MODIFIED:20240306T204029Z
UID:10000158-1712998800-1713013200@hamburg-shooters.de
SUMMARY:Kurzwaffe / Mehrdistanz
DESCRIPTION:Bitte tragt Euch zunächst in die Aufsichtsslots ein.\nEs werden alle Aufsichtsslots und alle weiteren Slots zunächst freigeschaltet. Sollten bis 2 Tage vor dem Termin noch Aufsichtsslots frei sein\, werden die betreffenden Slots vollständig gesperrt\, da wir ohne Aufsichten kein Training durchführen können.
URL:https://hamburg-shooters.de/event/kurzwaffe-mehrdistanz-20/
LOCATION:Shooting Point Kaltenkirchen\, Carl-Zeiss-Straße 38-40\, Kaltenkirchen\, Schleswig-Holstein\, 24568\, Deutschland
CATEGORIES:Kurzwaffe/Flinte
ATTACH;FMTTYPE=image/jpeg:https://hamburg-shooters.de/wp-content/uploads/2020/07/cartridges-2166491-MasterTux-scaled.jpg
GEO:53.82227;9.98414
X-APPLE-STRUCTURED-LOCATION;VALUE=URI;X-ADDRESS=Shooting Point Kaltenkirchen Carl-Zeiss-Straße 38-40 Kaltenkirchen Schleswig-Holstein 24568 Deutschland;X-APPLE-RADIUS=500;X-TITLE=Carl-Zeiss-Straße 38-40:geo:9.98414,53.82227
END:VEVENT
BEGIN:VEVENT
DTSTART;TZID=Europe/Berlin:20240413T100000
DTEND;TZID=Europe/Berlin:20240413T120000
DTSTAMP:20260423T000032
CREATED:20240306T204051Z
LAST-MODIFIED:20240306T204304Z
UID:10000253-1713002400-1713009600@hamburg-shooters.de
SUMMARY:Skeet
DESCRIPTION:Stand A\, Bitte variierende Anfangszeiten beachten!
URL:https://hamburg-shooters.de/event/skeet-8/
LOCATION:Schießstand Garlstorf\, Zur Osterheide 100\, Garlstorf\, 21376\, Deutschland
CATEGORIES:Wurfscheibe
ATTACH;FMTTYPE=image/jpeg:https://hamburg-shooters.de/wp-content/uploads/2020/07/guns-467710-Norman-Bosworth-scaled.jpg
GEO:53.2402289;10.1076195
X-APPLE-STRUCTURED-LOCATION;VALUE=URI;X-ADDRESS=Schießstand Garlstorf Zur Osterheide 100 Garlstorf 21376 Deutschland;X-APPLE-RADIUS=500;X-TITLE=Zur Osterheide 100:geo:10.1076195,53.2402289
END:VEVENT
BEGIN:VEVENT
DTSTART;TZID=Europe/Berlin:20240417T190000
DTEND;TZID=Europe/Berlin:20240417T210000
DTSTAMP:20260423T000032
CREATED:20240306T204542Z
LAST-MODIFIED:20240306T204643Z
UID:10000170-1713380400-1713387600@hamburg-shooters.de
SUMMARY:GK Kurzwaffe
DESCRIPTION:Bitte beachtet: Diese Trainingsmöglichkeit richtet sich exklusiv an erfahrene\, aktive Standaufsichten der Hamburg Shooters\, die sichere 25m-Schützen sind. \nBitte eigene Zielscheiben zum Training mitbringen.
URL:https://hamburg-shooters.de/event/gk-kurzwaffe-23/
LOCATION:HSG Sasel\, Meiendorfer Mühlenweg 35\, Hamburg\, 22393\, Deutschland
CATEGORIES:Kurzwaffe
ATTACH;FMTTYPE=image/png:https://hamburg-shooters.de/wp-content/uploads/2020/09/gun-2087470-von-dirtdiver-auf-Pixabay-e1615728171614.png
GEO:53.6423929;10.1295183
X-APPLE-STRUCTURED-LOCATION;VALUE=URI;X-ADDRESS=HSG Sasel Meiendorfer Mühlenweg 35 Hamburg 22393 Deutschland;X-APPLE-RADIUS=500;X-TITLE=Meiendorfer Mühlenweg 35:geo:10.1295183,53.6423929
END:VEVENT
BEGIN:VEVENT
DTSTART;TZID=Europe/Berlin:20240427T140000
DTEND;TZID=Europe/Berlin:20240427T160000
DTSTAMP:20260423T000032
CREATED:20240306T204704Z
LAST-MODIFIED:20240322T171020Z
UID:10000239-1714226400-1714233600@hamburg-shooters.de
SUMMARY:Trap D
DESCRIPTION:Bitte auf die Anfangszeiten achten. Zeiträume können variieren!
URL:https://hamburg-shooters.de/event/trap-d-3/
LOCATION:Schießstand Garlstorf\, Zur Osterheide 100\, Garlstorf\, 21376\, Deutschland
CATEGORIES:Wurfscheibe
ATTACH;FMTTYPE=image/jpeg:https://hamburg-shooters.de/wp-content/uploads/2020/07/shooter-695324-skeeze.jpg
GEO:53.2402289;10.1076195
X-APPLE-STRUCTURED-LOCATION;VALUE=URI;X-ADDRESS=Schießstand Garlstorf Zur Osterheide 100 Garlstorf 21376 Deutschland;X-APPLE-RADIUS=500;X-TITLE=Zur Osterheide 100:geo:10.1076195,53.2402289
END:VEVENT
END:VCALENDAR