BEGIN:VCALENDAR
VERSION:2.0
PRODID:-//Hamburg Shooters e.V. - ECPv6.15.20//NONSGML v1.0//EN
CALSCALE:GREGORIAN
METHOD:PUBLISH
X-WR-CALNAME:Hamburg Shooters e.V.
X-ORIGINAL-URL:https://hamburg-shooters.de
X-WR-CALDESC:Veranstaltungen für Hamburg Shooters e.V.
REFRESH-INTERVAL;VALUE=DURATION:PT1H
X-Robots-Tag:noindex
X-PUBLISHED-TTL:PT1H
BEGIN:VTIMEZONE
TZID:Europe/Berlin
BEGIN:DAYLIGHT
TZOFFSETFROM:+0100
TZOFFSETTO:+0200
TZNAME:CEST
DTSTART:20230326T010000
END:DAYLIGHT
BEGIN:STANDARD
TZOFFSETFROM:+0200
TZOFFSETTO:+0100
TZNAME:CET
DTSTART:20231029T010000
END:STANDARD
BEGIN:DAYLIGHT
TZOFFSETFROM:+0100
TZOFFSETTO:+0200
TZNAME:CEST
DTSTART:20240331T010000
END:DAYLIGHT
BEGIN:STANDARD
TZOFFSETFROM:+0200
TZOFFSETTO:+0100
TZNAME:CET
DTSTART:20241027T010000
END:STANDARD
BEGIN:DAYLIGHT
TZOFFSETFROM:+0100
TZOFFSETTO:+0200
TZNAME:CEST
DTSTART:20250330T010000
END:DAYLIGHT
BEGIN:STANDARD
TZOFFSETFROM:+0200
TZOFFSETTO:+0100
TZNAME:CET
DTSTART:20251026T010000
END:STANDARD
END:VTIMEZONE
BEGIN:VEVENT
DTSTART;TZID=Europe/Berlin:20240902T190000
DTEND;TZID=Europe/Berlin:20240902T210000
DTSTAMP:20260422T130444
CREATED:20240814T182833Z
LAST-MODIFIED:20240814T183046Z
UID:10000152-1725303600-1725310800@hamburg-shooters.de
SUMMARY:GK Kurzwaffe
DESCRIPTION:Bitte beachtet: Diese Trainingsmöglichkeit richtet sich exklusiv an erfahrene\, aktive Standaufsichten der Hamburg Shooters\, die sichere 25m-Schützen sind. \nBitte eigene Zielscheiben zum Training mitbringen.
URL:https://hamburg-shooters.de/event/gk-kurzwaffe-33/
LOCATION:HSG Sasel\, Meiendorfer Mühlenweg 35\, Hamburg\, 22393\, Deutschland
CATEGORIES:Kurzwaffe
ATTACH;FMTTYPE=image/png:https://hamburg-shooters.de/wp-content/uploads/2020/09/gun-2087470-von-dirtdiver-auf-Pixabay-e1615728171614.png
GEO:53.6423929;10.1295183
X-APPLE-STRUCTURED-LOCATION;VALUE=URI;X-ADDRESS=HSG Sasel Meiendorfer Mühlenweg 35 Hamburg 22393 Deutschland;X-APPLE-RADIUS=500;X-TITLE=Meiendorfer Mühlenweg 35:geo:10.1295183,53.6423929
END:VEVENT
BEGIN:VEVENT
DTSTART;TZID=Europe/Berlin:20240907T140000
DTEND;TZID=Europe/Berlin:20240907T163000
DTSTAMP:20260422T130444
CREATED:20240616T122056Z
LAST-MODIFIED:20240828T092415Z
UID:10000264-1725717600-1725726600@hamburg-shooters.de
SUMMARY:Mitgliederversammlung 2024
DESCRIPTION:Unsere diesjährige MV findet im Restaurant Leandros in Hamburg-Sasel statt. Gleich neben „unserem“ Schießstand.\nWir freuen uns auf Deine Teilnahme. Die Einladung mit Tagesordnung geht allen Mitgliedern per Mail zu. Bitte meldet Euch bis spätestens Mitte August an. \nDie Anmeldung erfolgt nach Versand der Einladung über unser Buchungssystem.
URL:https://hamburg-shooters.de/event/mitgliederversammlung-2024/
LOCATION:Leandros\, Hamburg-Sasel\, Meiendorfer Mühlenweg 35\, Hamburg\, 22393\, Deutschland
CATEGORIES:Mitgliederversammlung
ATTACH;FMTTYPE=image/png:https://hamburg-shooters.de/wp-content/uploads/2022/07/cropped-cropped-HHShooters_Logo_72dpi_rgb_transparentRL.png
GEO:53.6424402;10.0771972
X-APPLE-STRUCTURED-LOCATION;VALUE=URI;X-ADDRESS=Leandros Hamburg-Sasel Meiendorfer Mühlenweg 35 Hamburg 22393 Deutschland;X-APPLE-RADIUS=500;X-TITLE=Meiendorfer Mühlenweg 35:geo:10.0771972,53.6424402
END:VEVENT
BEGIN:VEVENT
DTSTART;TZID=Europe/Berlin:20240914T090000
DTEND;TZID=Europe/Berlin:20240914T110000
DTSTAMP:20260422T130444
CREATED:20240124T152520Z
LAST-MODIFIED:20240124T152557Z
UID:10000261-1726304400-1726311600@hamburg-shooters.de
SUMMARY:Long Range 300m
DESCRIPTION:Stand 2. Es kann ausschließlich 300m geschossen werden!
URL:https://hamburg-shooters.de/event/long-range-300m-7/
LOCATION:Schiesssportanlage Hohenhorn\, Zum Schießstand 1\, Hohenhorn\, Schleswig-Holstein\, 21526\, Deutschland
CATEGORIES:Long Range
ATTACH;FMTTYPE=image/jpeg:https://hamburg-shooters.de/wp-content/uploads/2020/07/long-range-shooting-3777583-Shepard-Humphries-scaled.jpg
GEO:53.4752379;10.3792074
X-APPLE-STRUCTURED-LOCATION;VALUE=URI;X-ADDRESS=Schiesssportanlage Hohenhorn Zum Schießstand 1 Hohenhorn Schleswig-Holstein 21526 Deutschland;X-APPLE-RADIUS=500;X-TITLE=Zum Schießstand 1:geo:10.3792074,53.4752379
END:VEVENT
BEGIN:VEVENT
DTSTART;TZID=Europe/Berlin:20240914T090000
DTEND;TZID=Europe/Berlin:20240914T130000
DTSTAMP:20260422T130444
CREATED:20240814T183147Z
LAST-MODIFIED:20240814T183915Z
UID:10000163-1726304400-1726318800@hamburg-shooters.de
SUMMARY:Kurzwaffe / Mehrdistanz
DESCRIPTION:Bitte tragt Euch zunächst in die Aufsichtsslots ein.\nEs werden alle Aufsichtsslots und alle weiteren Slots zunächst freigeschaltet. Sollten bis 2 Tage vor dem Termin noch Aufsichtsslots frei sein\, werden die betreffenden Slots vollständig gesperrt\, da wir ohne Aufsichten kein Training durchführen können.
URL:https://hamburg-shooters.de/event/kurzwaffe-mehrdistanz-25/
LOCATION:Shooting Point Kaltenkirchen\, Carl-Zeiss-Straße 38-40\, Kaltenkirchen\, Schleswig-Holstein\, 24568\, Deutschland
CATEGORIES:Kurzwaffe/Flinte
ATTACH;FMTTYPE=image/jpeg:https://hamburg-shooters.de/wp-content/uploads/2020/07/cartridges-2166491-MasterTux-scaled.jpg
GEO:53.82227;9.98414
X-APPLE-STRUCTURED-LOCATION;VALUE=URI;X-ADDRESS=Shooting Point Kaltenkirchen Carl-Zeiss-Straße 38-40 Kaltenkirchen Schleswig-Holstein 24568 Deutschland;X-APPLE-RADIUS=500;X-TITLE=Carl-Zeiss-Straße 38-40:geo:9.98414,53.82227
END:VEVENT
BEGIN:VEVENT
DTSTART;TZID=Europe/Berlin:20240918T190000
DTEND;TZID=Europe/Berlin:20240918T210000
DTSTAMP:20260422T130444
CREATED:20240814T183938Z
LAST-MODIFIED:20240814T184049Z
UID:10000175-1726686000-1726693200@hamburg-shooters.de
SUMMARY:GK Kurzwaffe
DESCRIPTION:Bitte beachtet: Diese Trainingsmöglichkeit richtet sich exklusiv an erfahrene\, aktive Standaufsichten der Hamburg Shooters\, die sichere 25m-Schützen sind. \nBitte eigene Zielscheiben zum Training mitbringen.
URL:https://hamburg-shooters.de/event/gk-kurzwaffe-34/
LOCATION:HSG Sasel\, Meiendorfer Mühlenweg 35\, Hamburg\, 22393\, Deutschland
CATEGORIES:Kurzwaffe
ATTACH;FMTTYPE=image/png:https://hamburg-shooters.de/wp-content/uploads/2020/09/gun-2087470-von-dirtdiver-auf-Pixabay-e1615728171614.png
GEO:53.6423929;10.1295183
X-APPLE-STRUCTURED-LOCATION;VALUE=URI;X-ADDRESS=HSG Sasel Meiendorfer Mühlenweg 35 Hamburg 22393 Deutschland;X-APPLE-RADIUS=500;X-TITLE=Meiendorfer Mühlenweg 35:geo:10.1295183,53.6423929
END:VEVENT
BEGIN:VEVENT
DTSTART;TZID=Europe/Berlin:20240921T100000
DTEND;TZID=Europe/Berlin:20240921T120000
DTSTAMP:20260422T130444
CREATED:20240814T184117Z
LAST-MODIFIED:20240814T184243Z
UID:10000241-1726912800-1726920000@hamburg-shooters.de
SUMMARY:Trap D
DESCRIPTION:Bitte auf die Anfangszeiten achten. Zeiträume können variieren!
URL:https://hamburg-shooters.de/event/trap-d-5/
LOCATION:Schießstand Garlstorf\, Zur Osterheide 100\, Garlstorf\, 21376\, Deutschland
CATEGORIES:Wurfscheibe
GEO:53.2402289;10.1076195
X-APPLE-STRUCTURED-LOCATION;VALUE=URI;X-ADDRESS=Schießstand Garlstorf Zur Osterheide 100 Garlstorf 21376 Deutschland;X-APPLE-RADIUS=500;X-TITLE=Zur Osterheide 100:geo:10.1076195,53.2402289
END:VEVENT
BEGIN:VEVENT
DTSTART;TZID=Europe/Berlin:20240928T100000
DTEND;TZID=Europe/Berlin:20240928T120000
DTSTAMP:20260422T130444
CREATED:20240814T184300Z
LAST-MODIFIED:20240814T184405Z
UID:10000250-1727517600-1727524800@hamburg-shooters.de
SUMMARY:Parcours
DESCRIPTION:Stand E\, Bitte auf variierende Anfangszeiten achten.
URL:https://hamburg-shooters.de/event/parcours-18/
LOCATION:Schießstand Garlstorf\, Zur Osterheide 100\, Garlstorf\, 21376\, Deutschland
CATEGORIES:Wurfscheibe
ATTACH;FMTTYPE=image/jpeg:https://hamburg-shooters.de/wp-content/uploads/2020/07/shotgun-1181648-Sascha-Luehr-scaled.jpg
GEO:53.2402289;10.1076195
X-APPLE-STRUCTURED-LOCATION;VALUE=URI;X-ADDRESS=Schießstand Garlstorf Zur Osterheide 100 Garlstorf 21376 Deutschland;X-APPLE-RADIUS=500;X-TITLE=Zur Osterheide 100:geo:10.1076195,53.2402289
END:VEVENT
END:VCALENDAR