BEGIN:VCALENDAR
VERSION:2.0
PRODID:-//Hamburg Shooters e.V. - ECPv6.15.20//NONSGML v1.0//EN
CALSCALE:GREGORIAN
METHOD:PUBLISH
X-WR-CALNAME:Hamburg Shooters e.V.
X-ORIGINAL-URL:https://hamburg-shooters.de
X-WR-CALDESC:Veranstaltungen für Hamburg Shooters e.V.
REFRESH-INTERVAL;VALUE=DURATION:PT1H
X-Robots-Tag:noindex
X-PUBLISHED-TTL:PT1H
BEGIN:VTIMEZONE
TZID:Europe/Berlin
BEGIN:DAYLIGHT
TZOFFSETFROM:+0100
TZOFFSETTO:+0200
TZNAME:CEST
DTSTART:20240331T010000
END:DAYLIGHT
BEGIN:STANDARD
TZOFFSETFROM:+0200
TZOFFSETTO:+0100
TZNAME:CET
DTSTART:20241027T010000
END:STANDARD
BEGIN:DAYLIGHT
TZOFFSETFROM:+0100
TZOFFSETTO:+0200
TZNAME:CEST
DTSTART:20250330T010000
END:DAYLIGHT
BEGIN:STANDARD
TZOFFSETFROM:+0200
TZOFFSETTO:+0100
TZNAME:CET
DTSTART:20251026T010000
END:STANDARD
BEGIN:DAYLIGHT
TZOFFSETFROM:+0100
TZOFFSETTO:+0200
TZNAME:CEST
DTSTART:20260329T010000
END:DAYLIGHT
BEGIN:STANDARD
TZOFFSETFROM:+0200
TZOFFSETTO:+0100
TZNAME:CET
DTSTART:20261025T010000
END:STANDARD
END:VTIMEZONE
BEGIN:VEVENT
DTSTART;TZID=Europe/Berlin:20250201T100000
DTEND;TZID=Europe/Berlin:20250201T120000
DTSTAMP:20260422T153214
CREATED:20241211T190514Z
LAST-MODIFIED:20241211T190514Z
UID:10000303-1738404000-1738411200@hamburg-shooters.de
SUMMARY:Parcours
DESCRIPTION:Stand E\, Bitte auf variierende Anfangszeiten achten.
URL:https://hamburg-shooters.de/event/parcours-22/
LOCATION:Schießstand Garlstorf\, Zur Osterheide 100\, Garlstorf\, 21376\, Deutschland
CATEGORIES:Wurfscheibe
ATTACH;FMTTYPE=image/jpeg:https://hamburg-shooters.de/wp-content/uploads/2020/07/shotgun-1181648-Sascha-Luehr-scaled.jpg
GEO:53.2402289;10.1076195
X-APPLE-STRUCTURED-LOCATION;VALUE=URI;X-ADDRESS=Schießstand Garlstorf Zur Osterheide 100 Garlstorf 21376 Deutschland;X-APPLE-RADIUS=500;X-TITLE=Zur Osterheide 100:geo:10.1076195,53.2402289
END:VEVENT
BEGIN:VEVENT
DTSTART;TZID=Europe/Berlin:20250203T190000
DTEND;TZID=Europe/Berlin:20250203T210000
DTSTAMP:20260422T153214
CREATED:20241230T142913Z
LAST-MODIFIED:20241230T142913Z
UID:10000321-1738609200-1738616400@hamburg-shooters.de
SUMMARY:GK Kurzwaffe Sasel
DESCRIPTION:Bitte beachtet: Diese Trainingsmöglichkeit richtet sich exklusiv an erfahrene\, aktive Standaufsichten der Hamburg Shooters\, die sichere 25m-Schützen sind. \nBitte eigene Zielscheiben zum Training mitbringen.
URL:https://hamburg-shooters.de/event/gk-kurzwaffe-sasel-2/
LOCATION:HSG Sasel\, Meiendorfer Mühlenweg 35\, Hamburg\, 22393\, Deutschland
CATEGORIES:Kurzwaffe
ATTACH;FMTTYPE=image/png:https://hamburg-shooters.de/wp-content/uploads/2020/09/gun-2087470-von-dirtdiver-auf-Pixabay-e1615728171614.png
GEO:53.6423929;10.1295183
X-APPLE-STRUCTURED-LOCATION;VALUE=URI;X-ADDRESS=HSG Sasel Meiendorfer Mühlenweg 35 Hamburg 22393 Deutschland;X-APPLE-RADIUS=500;X-TITLE=Meiendorfer Mühlenweg 35:geo:10.1295183,53.6423929
END:VEVENT
BEGIN:VEVENT
DTSTART;TZID=Europe/Berlin:20250208T090000
DTEND;TZID=Europe/Berlin:20250208T130000
DTSTAMP:20260422T153214
CREATED:20241211T175107Z
LAST-MODIFIED:20241211T180241Z
UID:10000285-1739005200-1739019600@hamburg-shooters.de
SUMMARY:Kurzwaffe / Mehrdistanz
DESCRIPTION:Bitte tragt Euch zunächst in die Aufsichtsslots ein.\nEs werden alle Aufsichtsslots und alle weiteren Slots zunächst freigeschaltet. Sollten bis 2 Tage vor dem Termin noch Aufsichtsslots frei sein\, werden die betreffenden Slots vollständig gesperrt\, da wir ohne Aufsichten kein Training durchführen können.
URL:https://hamburg-shooters.de/event/kurzwaffe-mehrdistanz-32/
LOCATION:Shooting Point Kaltenkirchen\, Carl-Zeiss-Straße 38-40\, Kaltenkirchen\, Schleswig-Holstein\, 24568\, Deutschland
GEO:53.82227;9.98414
X-APPLE-STRUCTURED-LOCATION;VALUE=URI;X-ADDRESS=Shooting Point Kaltenkirchen Carl-Zeiss-Straße 38-40 Kaltenkirchen Schleswig-Holstein 24568 Deutschland;X-APPLE-RADIUS=500;X-TITLE=Carl-Zeiss-Straße 38-40:geo:9.98414,53.82227
END:VEVENT
BEGIN:VEVENT
DTSTART;TZID=Europe/Berlin:20250219T190000
DTEND;TZID=Europe/Berlin:20250219T210000
DTSTAMP:20260422T153214
CREATED:20241230T143854Z
LAST-MODIFIED:20241230T143854Z
UID:10000333-1739991600-1739998800@hamburg-shooters.de
SUMMARY:GK Kurzwaffe
DESCRIPTION:Bitte beachtet: Diese Trainingsmöglichkeit richtet sich exklusiv an erfahrene\, aktive Standaufsichten der Hamburg Shooters\, die sichere 25m-Schützen sind. \nBitte eigene Zielscheiben zum Training mitbringen.
URL:https://hamburg-shooters.de/event/gk-kurzwaffe-42/
LOCATION:HSG Sasel\, Meiendorfer Mühlenweg 35\, Hamburg\, 22393\, Deutschland
CATEGORIES:Kurzwaffe
ATTACH;FMTTYPE=image/png:https://hamburg-shooters.de/wp-content/uploads/2020/09/gun-2087470-von-dirtdiver-auf-Pixabay-e1615728171614.png
GEO:53.6423929;10.1295183
X-APPLE-STRUCTURED-LOCATION;VALUE=URI;X-ADDRESS=HSG Sasel Meiendorfer Mühlenweg 35 Hamburg 22393 Deutschland;X-APPLE-RADIUS=500;X-TITLE=Meiendorfer Mühlenweg 35:geo:10.1295183,53.6423929
END:VEVENT
BEGIN:VEVENT
DTSTART;TZID=Europe/Berlin:20250222T150000
DTEND;TZID=Europe/Berlin:20250222T170000
DTSTAMP:20260422T153214
CREATED:20241211T191636Z
LAST-MODIFIED:20241211T191636Z
UID:10000311-1740236400-1740243600@hamburg-shooters.de
SUMMARY:Trap D
DESCRIPTION:ACHTUNG: TERMIN STARTET NICHT WIE ÜBLICH UM 10 UHR\, SONDERN ERST UM 15 UHR!
URL:https://hamburg-shooters.de/event/trap-d-9/
LOCATION:Schießstand Garlstorf\, Zur Osterheide 100\, Garlstorf\, 21376\, Deutschland
CATEGORIES:Wurfscheibe
GEO:53.2402289;10.1076195
X-APPLE-STRUCTURED-LOCATION;VALUE=URI;X-ADDRESS=Schießstand Garlstorf Zur Osterheide 100 Garlstorf 21376 Deutschland;X-APPLE-RADIUS=500;X-TITLE=Zur Osterheide 100:geo:10.1076195,53.2402289
END:VEVENT
END:VCALENDAR